BEGIN:VCALENDAR
VERSION:2.0
PRODID:-//Mozzarella Battipaglia - Qui, dove nasce - ECPv5.1.0//NONSGML v1.0//EN
CALSCALE:GREGORIAN
METHOD:PUBLISH
X-WR-CALNAME:Mozzarella Battipaglia - Qui, dove nasce
X-ORIGINAL-URL:https://www.mozzarella-battipaglia.it
X-WR-CALDESC:Eventi per Mozzarella Battipaglia - Qui, dove nasce
BEGIN:VTIMEZONE
TZID:UTC
BEGIN:STANDARD
TZOFFSETFROM:+0000
TZOFFSETTO:+0000
TZNAME:UTC
DTSTART:20150101T000000
END:STANDARD
END:VTIMEZONE
BEGIN:VEVENT
DTSTART;TZID=UTC:20150805T200000
DTEND;TZID=UTC:20150809T000000
DTSTAMP:20260421T033633
CREATED:20150807T182556Z
LAST-MODIFIED:20150807T183151Z
UID:2122-1438804800-1439078400@www.mozzarella-battipaglia.it
SUMMARY:Festa del Panuozzo e della pizza a Battipaglia
DESCRIPTION:Fino al 9 agosto a Battipaglia si svolgerà la Festa del Panuozzo e della Pizza. L’evento si svolgerà nell’area adiacente allo stadio comunale “L. Pastena”\, i visitatori potranno degustare le eccellenze del territorio campano\, dalla mozzarella di bufala all’olio extravergine di oliva\, fino alle grandi produzioni enogastronomiche per una manifestazione basata sulla convivialità e sul desiderio di stare insieme\, in cui le vere star saranno i maestri pizzaioli\, guidati dallo staff di Franco’s Pizza\, promotore dell’iniziativa in partnership con l’associazione Cultura e Gastronomia nel Mondo. Panuozzi\, pizza\, sfogliatelle\, babà e ogni sera un primo piatto diverso: queste saranno solo alcune delle specialità che si potranno degustare presso i vari stand attivi in fiera e ogni serata sarà animata da musica e cabaret\, a cominciare da mercoledì 5 con l’esibizione dei Trc\, tre giovani rapper di Battipaglia\, e della scuola di ballo “Starlight” di Cristina Corrado\, cui seguirà lo show di Manuela Lettiera in una performance tra danza e cabaret dedicata alla figura della sciantosa napoletana. Giovedì 6 spazio alla bellezza con tappa del tour di “Miss Parco Nazionale del Cilento\, Vallo Di Diano e Alburni”\, mentre venerdì 7 tutti in pista con balli caraibici e popolari\, tra tammurriate\, pizziche e tammorre. Sabato 8 agosto si passa alle sonorità sofisticate de “I finto jazz”\, accompagnati dall’esibizione della scuola di danza Movimento\, Musica e Passione di Patrizia Franzese\, infine\, domenica 9 si terrà la finalissima del “Campania Festival”\, concorso nazionale canoro e premio Mario Attilio Laudano e sul palco ci sarà una special guest\, il comico Antonio Fiorillo\, direttamente da Made in Sud. \n \nShare
URL:https://www.mozzarella-battipaglia.it/event/festa-del-panuozzo-e-della-pizza-a-battipaglia/
LOCATION:stadio pastena\, battipaglia
CATEGORIES:Eventi nella piana del sele
ATTACH;FMTTYPE=image/jpeg:https://www.mozzarella-battipaglia.it/wp-content/uploads/2015/08/630_festa-del-panuozzo-e-pizza-battipaglia.jpg
END:VEVENT
END:VCALENDAR